BEGIN:VCALENDAR
PRODID:-//welante.ch-isi/ical//2.0/DE
VERSION:2.0
CALSCALE:GREGORIAN
BEGIN:VEVENT
UID:0d8f28c7267b5db25312c77f49f0f827
DTSTAMP:20260420T132238Z
SUMMARY:27-09-BE1 Co-Kreation von wirksamen Beratungsprozessen
DESCRIPTION:Mit: Lusti Hansjürg\, isi\, Seefeldt Claudia\, isi\n\nWeitere 
 Termine:\nFr 10.09.2027 09:30 - 17:30\nSa 11.09.2027 09:30 - 17:30
DTSTART:20270910T093000
DTEND:20270910T173000
LOCATION:3. Stock (Demetrio)\, Raum «Don Marcello»\, institut für system
 ische impulse\, entwicklung und führung gmbh
END:VEVENT
END:VCALENDAR
