BEGIN:VCALENDAR
PRODID:-//welante.ch-isi/ical//2.0/DE
VERSION:2.0
CALSCALE:GREGORIAN
BEGIN:VEVENT
UID:0c33dd75096e0b54cd13906f29b2ee57
DTSTAMP:20260420T132802Z
SUMMARY:27-09-BE6 Change – zwischen Kunst und Handwerk
DESCRIPTION:Mit: Romano Roger\, institut für systemische impulse\, entwick
 lung und führung gmbh\, Schulze Beate M.\, Schulze Resource Consulting\n\
 nWeitere Termine:\nMi 01.09.2027 09:30 - 17:30\nDo 02.09.2027 09:30 - 17:3
 0
DTSTART:20270901T093000
DTEND:20270901T173000
LOCATION:3. Stock (Demetrio)\, Raum «Don Marcello»\, institut für system
 ische impulse\, entwicklung und führung gmbh
END:VEVENT
END:VCALENDAR
