BEGIN:VCALENDAR
PRODID:-//welante.ch-isi/ical//2.0/DE
VERSION:2.0
CALSCALE:GREGORIAN
BEGIN:VEVENT
UID:74fe015b1b9f9f344daec2b0d526aef9
DTSTAMP:20260420T132327Z
SUMMARY:27-09-CO1 Coaching Praxis I-III + Live (Paket)
DESCRIPTION:Mit: Gaio Simone\, Simone Gaio GmbH\, Lusti Hansjürg\, isi\n\n
 Weitere Termine:\nFr 03.09.2027 09:30 - 17:30\nSa 04.09.2027 09:30 - 17:30
 \nFr 01.10.2027 09:30 - 17:30\nSa 02.10.2027 09:30 - 17:30\nFr 29.10.2027 
 09:30 - 17:30\nSa 30.10.2027 09:30 - 17:30\nFr 19.11.2027 09:30 - 17:30\nS
 a 20.11.2027 09:30 - 17:30
DTSTART:20270903T093000
DTEND:20270903T173000
LOCATION:3. Stock (Demetrio)\, Raum «Don Marcello»\, institut für system
 ische impulse\, entwicklung und führung gmbh
END:VEVENT
END:VCALENDAR
