BEGIN:VCALENDAR
PRODID:-//welante.ch-isi/ical//2.0/DE
VERSION:2.0
CALSCALE:GREGORIAN
BEGIN:VEVENT
UID:0b952447726a382905be788672efab1a
DTSTAMP:20260420T132153Z
SUMMARY:27-09-ES3 Systemtheorie – ein anderer Blick auf die Welt
DESCRIPTION:Mit: Romano Roger\, institut für systemische impulse\, entwick
 lung und führung gmbh\, Kummer Annemarie\, akw/entwicklung & beratung\n\n
 Weitere Termine:\nDi 28.09.2027 09:30 - 17:30\nMi 29.09.2027 09:30 - 17:30
DTSTART:20270928T093000
DTEND:20270928T173000
LOCATION:3. Stock (Demetrio)\, Raum «Don Marcello»\, institut für system
 ische impulse\, entwicklung und führung gmbh
END:VEVENT
END:VCALENDAR
