BEGIN:VCALENDAR
PRODID:-//welante.ch-isi/ical//2.0/DE
VERSION:2.0
CALSCALE:GREGORIAN
BEGIN:VEVENT
UID:5ae823e39ad7aa602d8cc2f6d2a34a92
DTSTAMP:20260420T132126Z
SUMMARY:27-10-ES2 Von Menschen und Systemen
DESCRIPTION:Mit: Seefeldt Claudia\, isi\, Lusti Hansjürg\, isi\n\nWeitere 
 Termine:\nMo 25.10.2027 09:30 - 17:30\nDi 26.10.2027 09:30 - 17:30
DTSTART:20271025T093000
DTEND:20271025T173000
LOCATION:3. Stock (Demetrio)\, Raum «Don Marcello»\, institut für system
 ische impulse\, entwicklung und führung gmbh
END:VEVENT
END:VCALENDAR
