BEGIN:VCALENDAR
PRODID:-//welante.ch-isi/ical//2.0/DE
VERSION:2.0
CALSCALE:GREGORIAN
BEGIN:VEVENT
UID:39662ff768e611eda72d5a10d5375494
DTSTAMP:20260420T130052Z
SUMMARY:27-10-RM1 Biografien in Perspektiven
DESCRIPTION:Mit: Seefeldt Claudia\, isi\, Thelen Herwig\, praxis herwig the
 len\n\nWeitere Termine:\nMi 06.10.2027 09:30 - 17:30\nDo 07.10.2027 09:30 
 - 17:30\nFr 08.10.2027 09:30 - 17:30
DTSTART:20271006T093000
DTEND:20271006T173000
LOCATION:3. Stock (Demetrio)\, Raum «Don Marcello»\, institut für system
 ische impulse\, entwicklung und führung gmbh
END:VEVENT
END:VCALENDAR
