BEGIN:VCALENDAR
PRODID:-//welante.ch-isi/ical//2.0/DE
VERSION:2.0
CALSCALE:GREGORIAN
BEGIN:VEVENT
UID:980f3090061fd86046d0d868b0b46569
DTSTAMP:20260420T130819Z
SUMMARY:27-11-BE15 Teamentwicklung und Teamcoaching
DESCRIPTION:Mit: Lusti Hansjürg\, isi\, Thomas Konstanze\n\nWeitere Termin
 e:\nMo 01.11.2027 09:30 - 17:30\nDi 02.11.2027 09:30 - 17:30
DTSTART:20271101T093000
DTEND:20271101T173000
LOCATION:3. Stock (Demetrio)\, Raum «Don Marcello»\, institut für system
 ische impulse\, entwicklung und führung gmbh
END:VEVENT
END:VCALENDAR
