BEGIN:VCALENDAR
PRODID:-//welante.ch-isi/ical//2.0/DE
VERSION:2.0
CALSCALE:GREGORIAN
BEGIN:VEVENT
UID:276b9aa1fe1d0f8dc0659000435c7243
DTSTAMP:20260420T130333Z
SUMMARY:27-11-BE4 Organisationsentwicklung: Grundlagen und Zugänge
DESCRIPTION:Mit: Seefeldt Claudia\, isi\, Serfass Annika\n\nWeitere Termine
 :\nMo 15.11.2027 09:30 - 17:30\nDi 16.11.2027 09:30 - 17:30
DTSTART:20271115T093000
DTEND:20271115T173000
LOCATION:3. Stock (Demetrio)\, Raum «Don Marcello»\, institut für system
 ische impulse\, entwicklung und führung gmbh
END:VEVENT
END:VCALENDAR
