BEGIN:VCALENDAR
PRODID:-//welante.ch-isi/ical//2.0/DE
VERSION:2.0
CALSCALE:GREGORIAN
BEGIN:VEVENT
UID:473e7917b88ac6eb08355edc190ac2d2
DTSTAMP:20260420T132154Z
SUMMARY:27-11-BE5 (Beyond) Leadership
DESCRIPTION:Mit: Seefeldt Claudia\, isi\, Lusti Hansjürg\, isi\n\nWeitere 
 Termine:\nFr 26.11.2027 09:30 - 17:30\nSa 27.11.2027 09:30 - 17:30
DTSTART:20271126T093000
DTEND:20271126T173000
LOCATION:3. Stock (Demetrio)\, Raum «Don Marcello»\, institut für system
 ische impulse\, entwicklung und führung gmbh
END:VEVENT
END:VCALENDAR
