BEGIN:VCALENDAR
PRODID:-//welante.ch-isi/ical//2.0/DE
VERSION:2.0
CALSCALE:GREGORIAN
BEGIN:VEVENT
UID:3e9227a20935c9e2f5769c5a352d25c6
DTSTAMP:20260420T132255Z
SUMMARY:27-11-CO7 Coaching in Organisationen
DESCRIPTION:Mit: Romano Roger\, institut für systemische impulse\, entwick
 lung und führung gmbh\, Wunderlin Simone\, S.C. – Wunderlin Beratung & 
 Coaching\n\nWeitere Termine:\nFr 05.11.2027 09:30 - 17:30\nSa 06.11.2027 0
 9:30 - 17:30
DTSTART:20271105T093000
DTEND:20271105T173000
LOCATION:3. Stock (Demetrio)\, Raum «Don Marcello»\, institut für system
 ische impulse\, entwicklung und führung gmbh
END:VEVENT
END:VCALENDAR
